BEGIN:VCALENDAR
VERSION:2.0
PRODID:-//Plone.org//NONSGML plone.app.event//EN
X-WR-TIMEZONE:Europe/Berlin
BEGIN:VEVENT
SUMMARY:Landesvorstandssitzung des BDK Brandenburg
DTSTART;VALUE=DATE:20260708
DTEND;VALUE=DATE:20260710
DTSTAMP:20260422T202730Z
UID:93179e76209f46d0b20fd70ac7020bbe@www.bdk.de
CATEGORIES:Brandenburg
CONTACT:Christopher Bothe\, christopher.bothe@bdk.de
CREATED:20260422T141618Z
LAST-MODIFIED:20260422T141712Z
LOCATION:Burg im Spreewald
URL:https://www.bdk.de/der-bdk/was-wir-tun/termine/landesvorstandssitzung-
 des-bdk-brandenburg
END:VEVENT
END:VCALENDAR
