BEGIN:VCALENDAR
VERSION:2.0
PRODID:-//Plone.org//NONSGML plone.app.event//EN
X-WR-TIMEZONE:Europe/Berlin
BEGIN:VEVENT
SUMMARY:Sommerfest des BDK LV Berlin am 03.07.2026
DTSTART;VALUE=DATE:20260703
DTEND;VALUE=DATE:20260704
DTSTAMP:20260424T132942Z
UID:aeaa9f54508f4489baef250df192ca55@www.bdk.de
CATEGORIES:Berlin
CREATED:20260424T060208Z
DESCRIPTION:Bitte den Termin zum Sommerfest für alle Mitglieder und gelad
 ene Gäste vormerken. Weitere Informationen werden rechtzeitig bekannt geg
 eben.
LAST-MODIFIED:20260424T060306Z
LOCATION:"Alte Pumpe"\, Lützowstraße 42\, 10785 Berlin
URL:https://www.bdk.de/der-bdk/was-wir-tun/termine/sommerfest-des-bdk-lv-b
 erlin-am-03-07.2026
END:VEVENT
END:VCALENDAR
