BEGIN:VCALENDAR
VERSION:2.0
PRODID:-//Plone.org//NONSGML plone.app.event//EN
X-WR-TIMEZONE:Europe/Berlin
BEGIN:VEVENT
SUMMARY:Sport- und Revierfest des Polizeireviers Dresden-Nord
DTSTART;VALUE=DATE:20230615
DTEND;VALUE=DATE:20230616
DTSTAMP:20260422T152902Z
UID:338ce6fc0e0b463ba7b65e36b946c17b@www.bdk.de
CATEGORIES:Sachsen
CONTACT:Wolf Götzke\, wolf.goetzke@bdk.de
CREATED:20230604T092749Z
LAST-MODIFIED:20230604T092938Z
LOCATION:Dresden
URL:https://www.bdk.de/der-bdk/was-wir-tun/termine/sport-und-revierfest-de
 s-polizeireviers-dresden-nord
END:VEVENT
END:VCALENDAR
